BEGIN:VCALENDAR
VERSION:2.0
PRODID:-//IP.Board Calendar 4.7.1//EN
METHOD:PUBLISH
CALSCALE:GREGORIAN
BEGIN:VTIMEZONE
TZID:Europe/London
TZURL:http://tzurl.org/zoneinfo/Europe/London
X-LIC-LOCATION:Europe/London
BEGIN:DAYLIGHT
TZOFFSETFROM:+0000
TZOFFSETTO:+0100
TZNAME:BST
DTSTART:20160327T020000Z
RRULE:FREQ=YEARLY;BYMONTH=3;BYDAY=-1SU
END:DAYLIGHT
BEGIN:STANDARD
TZOFFSETFROM:+0100
TZOFFSETTO:+0000
TZNAME:GMT
DTSTART:20161030T020000Z
RRULE:FREQ=YEARLY;BYMONTH=10;BYDAY=-1SU
END:STANDARD
END:VTIMEZONE
BEGIN:VTIMEZONE
TZID:Europe/London
TZURL:http://tzurl.org/zoneinfo/Europe/London
X-LIC-LOCATION:Europe/London
BEGIN:DAYLIGHT
TZOFFSETFROM:+0000
TZOFFSETTO:+0100
TZNAME:BST
DTSTART:20150329T020000Z
RRULE:FREQ=YEARLY;BYMONTH=3;BYDAY=-1SU
END:DAYLIGHT
BEGIN:STANDARD
TZOFFSETFROM:+0100
TZOFFSETTO:+0000
TZNAME:GMT
DTSTART:20151025T020000Z
RRULE:FREQ=YEARLY;BYMONTH=10;BYDAY=-1SU
END:STANDARD
END:VTIMEZONE
BEGIN:VTIMEZONE
TZID:Europe/London
TZURL:http://tzurl.org/zoneinfo/Europe/London
X-LIC-LOCATION:Europe/London
BEGIN:DAYLIGHT
TZOFFSETFROM:+0000
TZOFFSETTO:+0100
TZNAME:BST
DTSTART:20140330T020000Z
RRULE:FREQ=YEARLY;BYMONTH=3;BYDAY=-1SU
END:DAYLIGHT
BEGIN:STANDARD
TZOFFSETFROM:+0100
TZOFFSETTO:+0000
TZNAME:GMT
DTSTART:20141026T020000Z
RRULE:FREQ=YEARLY;BYMONTH=10;BYDAY=-1SU
END:STANDARD
END:VTIMEZONE
BEGIN:VTIMEZONE
TZID:Europe/London
TZURL:http://tzurl.org/zoneinfo/Europe/London
X-LIC-LOCATION:Europe/London
BEGIN:DAYLIGHT
TZOFFSETFROM:+0000
TZOFFSETTO:+0100
TZNAME:BST
DTSTART:20130331T020000Z
RRULE:FREQ=YEARLY;BYMONTH=3;BYDAY=-1SU
END:DAYLIGHT
BEGIN:STANDARD
TZOFFSETFROM:+0100
TZOFFSETTO:+0000
TZNAME:GMT
DTSTART:20131027T020000Z
RRULE:FREQ=YEARLY;BYMONTH=10;BYDAY=-1SU
END:STANDARD
END:VTIMEZONE
BEGIN:VEVENT
SUMMARY:Trójmiejski Starlightmeet
DTSTAMP:20160728T131048Z
SEQUENCE:0
UID:53-13-06383f3d05cd38aec216ab67a22f00e2@mlppolska.pl
ORGANIZER;CN="SPIDIvonMARDER":administracja@mlppolska.pl
DESCRIPTION:\n\n	\n\n		\n\n\n\n	\n\n		 \n\n	\n\n\n\n	\n\n		Stowarzyszen
	ie Tribrony zaprasza na kolejnego meeta zorganizowanego\, nazwanego Starli
	ghtmeetem\, na którym gościć będzie Klaudia Kuchtyk\, a więc polski
	 głos właśnie Starlight Glimmer.\n\n	\n\n\n\n\n\n\n\n	\n\n		 \n\n	\n\
	n\n\n	\n\n		 \n\n	\n\n\n\n	\n\n		 \n\n	\n\n\n\n	\n\n		 \n\n	\n\n\n\n	\n
	\n		http://starlightmeet.tribrony.org\n\n	\n\n\n\n	\n\n		Ruszyła strona i
	nternetowa! Serdecznie zapraszamy\, można tutaj zapoznać się z detalami
	 imprezy. Atrakcje\, dojazdy\, noclegi!\n\n\n\n		 \n\n	\n\n\n\n	\n\n		REJ
	ESTRACJA\n\n\n		 \n\n	\n\n\n\n	\n\n		Część dzienna – 5 listopada (so
	bota) od 11.00 do 20.00\, tu odbędą się główne atrakcje\n\n	\n\n\n\n	
	\n\n		Część nocna – z 5 na 6 listopada\, od 20.00 wieczorem do 10.00 
	rano\, obejmująca nocleg i dodatkowe atrakcje\n\n	\n\n\n\n	\n\n		 \n\n	\
	n\n\n\n	\n\n		Miejsce: Szkoła Podstawowa nr 1 w Sopocie\, ul. Armii Krajo
	wej 50-54\n\n	\n\n\n\n	\n\n		 \n\n	\n\n\n\n	\n\n		Chcesz pomóc? Zostać 
	helperem lub ochroniarzem?\n\n	\n\n\n\n	\n\n		 \n\n	\n\n\n\n	\n\n		A moż
	e planujesz zrobić prelekcję\, konkurs lub inną atrakcję?\n\n	\n\n\n\n
		\n\n		 \n\n	\n\n\n\n	\n\n		Chcesz wystawić stoisko i sprzedawać kucyko
	we rzeczy?\n\n	\n\n\n\n	\n\n		 \n\n	\n\n\n\n\n\n\n\n	\n\n		 \n\n	\n\n\n\
	n\n\n\n\n	\n\n		Link do wydarzenia na facebooku\n\n	\n\n\n\n\n\n\n\n	\n\n	
		 \n\n	\n\n\n\n\n\n\n\n	\n\n		 \n\n	\n\n\n\n\n\n\n\n	\n\n		\n\n\n\n	\n\n
			 \n\n	\n\n\n\n	\n\n		 \n\n	\n\n\n\n\n\n\n\n	\n\n		 \n\n	\n\n\n\n	\n\n
			Atrakcją specjalną jest spotkanie z Klaudią Kuchtyk\, która użyczy
	ła swego głosu Starlight Glimmer. Będziemy mieli okazję z nią porozm
	awiać o tworzeniu polskiej wersji dubbingowej\, wspólnie pośpiewać\, a
	 także możemy spodziewać się jakiejś niespodzianki \n\n\n\n	\n\n		Tut
	aj możecie poczytać o naszym gościu więcej: http://dubbingpedia.pl/wi
	ki/Klaudia_Kuchtyk\n\n	\n\n\n\n	\n\n		 \n\n	\n\n\n\n\n\n\n\n	\n\n		Serdec
	znie zapraszamy! Widzimy się na meecie!\n\n	\n\n\n\n	\n\n		 \n\n	\n\n\n\
	n	\n\n		Termin został dogadany z Warszawą\, która również planuje teg
	o dnia imprezę.\n\n	\n\n
DTSTART:20161105T100000Z
DTEND:20161106T090000Z
END:VEVENT
BEGIN:VEVENT
SUMMARY:Warszawsko-Krakowski Ponymeet Integracyjny 
DTSTAMP:20150813T215314Z
SEQUENCE:0
UID:27-13-06383f3d05cd38aec216ab67a22f00e2@mlppolska.pl
ORGANIZER;CN="asd":administracja@mlppolska.pl
DESCRIPTION:\nDni lecą i dalej nikt nie wpisał meeta w kalendarz. Moż
	liwe nawet ze ludzie co nie mają twarzoksiazki nic o nim nie wiedzą.http
	s://facebook.com/events/710694492408052\n
DTSTART;VALUE=DATE:20150905
ATTENDEE;CN="asd";CUTYPE=INDIVIDUAL;PARTSTAT=ACCEPTED:admini
	stracja@mlppolska.pl
ATTENDEE;CN="Chief";CUTYPE=INDIVIDUAL;PARTSTAT=ACCEPTED:admi
	nistracja@mlppolska.pl
ATTENDEE;CN="Wonsz";CUTYPE=INDIVIDUAL;PARTSTAT=ACCEPTED:admi
	nistracja@mlppolska.pl
ATTENDEE;CN="1stChoice";CUTYPE=INDIVIDUAL;PARTSTAT=ACCEPTED:
	administracja@mlppolska.pl
ATTENDEE;CN="The Silver Cheese";CUTYPE=INDIVIDUAL;PARTSTAT=A
	CCEPTED:administracja@mlppolska.pl
ATTENDEE;CN="Wlocz";CUTYPE=INDIVIDUAL;PARTSTAT=ACCEPTED:admi
	nistracja@mlppolska.pl
ATTENDEE;CN="Kuracyja";CUTYPE=INDIVIDUAL;PARTSTAT=ACCEPTED:a
	dministracja@mlppolska.pl
ATTENDEE;CN="Kamiiru";CUTYPE=INDIVIDUAL;PARTSTAT=ACCEPTED:ad
	ministracja@mlppolska.pl
ATTENDEE;CN="Atomowy_Hipopotam";CUTYPE=INDIVIDUAL;PARTSTAT=A
	CCEPTED:administracja@mlppolska.pl
ATTENDEE;CN="Mizaw";CUTYPE=INDIVIDUAL;PARTSTAT=ACCEPTED:admi
	nistracja@mlppolska.pl
ATTENDEE;CN="Flippyn";CUTYPE=INDIVIDUAL;PARTSTAT=ACCEPTED:ad
	ministracja@mlppolska.pl
END:VEVENT
BEGIN:VEVENT
SUMMARY:II Twilightmeet + Zlot forumowy MLPPolska
DTSTAMP:20150820T162014Z
SEQUENCE:0
UID:28-13-06383f3d05cd38aec216ab67a22f00e2@mlppolska.pl
ORGANIZER;CN="Siper":administracja@mlppolska.pl
DESCRIPTION:\nMoi Kochani!\nPo raz drugi grupa fanów najmłodszej ksi
	ężniczki ma przyjemność zaprosić Was na meet pod ich patronatem.\n\nI
	I Twilightmeet odbędzie się 26-27 września w Gdańsku na Morenie\, wCen
	trum Kształcenia im. Św. Wojciecha. Ponownie postaramy się urozmaicić 
	typową ofertę meetową o atrakcje intelektualne\, czyli wszelkiego rodza
	ju prelekcje\, panele dyskusyjne i rozkminki.\nTym razem zapraszamy Was r
	ównież serdecznie w imieniu forum MLPPolska\, które w ramach meeta będ
	zie organizować zlot!\n\nCo również większość ucieszy także i tym r
	azem pojawi się sleeproom\, tym razem w pełni dzielonej koncepcji prawdz
	iwego sleeproomu\, głośnego sleeproomu\, a także atrakcji wieczornych.\
	n\n----------WAŻNE INFORMACJE----------\n\n&gt\;OPŁATA WEJŚCIOWA: 5 PLN
	\n\n\n\n----------WAŻNE INFORMACJE----------\n\nWięcej informacji wkrót
	ce!\n\nZatem zbierajcie siły i widzimy się we wrześniu!\nZapraszamy na 
	naszą stronę: http://www.broniestwilight.org/\n
DTSTART:20150926T090000Z
DTEND:20150927T100000Z
ATTENDEE;CN="Siper";CUTYPE=INDIVIDUAL;PARTSTAT=ACCEPTED:admi
	nistracja@mlppolska.pl
ATTENDEE;CN="Wonsz";CUTYPE=INDIVIDUAL;PARTSTAT=ACCEPTED:admi
	nistracja@mlppolska.pl
ATTENDEE;CN="Cygnus";CUTYPE=INDIVIDUAL;PARTSTAT=ACCEPTED:adm
	inistracja@mlppolska.pl
ATTENDEE;CN="Ylthin";CUTYPE=INDIVIDUAL;PARTSTAT=ACCEPTED:adm
	inistracja@mlppolska.pl
ATTENDEE;CN="Wlocz";CUTYPE=INDIVIDUAL;PARTSTAT=ACCEPTED:admi
	nistracja@mlppolska.pl
ATTENDEE;CN="SPIDIvonMARDER";CUTYPE=INDIVIDUAL;PARTSTAT=ACCE
	PTED:administracja@mlppolska.pl
ATTENDEE;CN="....";CUTYPE=INDIVIDUAL;PARTSTAT=ACCEPTED:admin
	istracja@mlppolska.pl
ATTENDEE;CN="1stChoice";CUTYPE=INDIVIDUAL;PARTSTAT=ACCEPTED:
	administracja@mlppolska.pl
ATTENDEE;CN="Ignis Vesper";CUTYPE=INDIVIDUAL;PARTSTAT=ACCEPT
	ED:administracja@mlppolska.pl
ATTENDEE;CN="Arpegius";CUTYPE=INDIVIDUAL;PARTSTAT=ACCEPTED:a
	dministracja@mlppolska.pl
ATTENDEE;CN="Mizaw";CUTYPE=INDIVIDUAL;PARTSTAT=ACCEPTED:admi
	nistracja@mlppolska.pl
ATTENDEE;CN="McKeyPL";CUTYPE=INDIVIDUAL;PARTSTAT=ACCEPTED:ad
	ministracja@mlppolska.pl
ATTENDEE;CN="KochamChemie";CUTYPE=INDIVIDUAL;PARTSTAT=ACCEPT
	ED:administracja@mlppolska.pl
END:VEVENT
BEGIN:VEVENT
SUMMARY:Vistulian
DTSTAMP:20150402T103723Z
SEQUENCE:1
UID:26-13-06383f3d05cd38aec216ab67a22f00e2@mlppolska.pl
ORGANIZER;CN="SPIDIvonMARDER":administracja@mlppolska.pl
DESCRIPTION:\nWarszawa Bronies i Stowarzyszenie Tribrony mają zaszczyt 
	zaprosić na niezwykłego ponymeeta ochrzczonego\n\nVISTULIAN\n\nhttp://vi
	stulian.pl/main/\n\n\nhttps://www.facebook.com/events/454399828058303/\n\n
	\n\n\n\nTo nieprawda\, że jakieś zlodowacenie zamroziło warszawski fand
	om. A nawet jeśli\, to nadchodzi odwilż!\nWarszawa przy wsparciu Tribron
	y zapraszają na wyjątkowo dużego\, dwudniowego ponymeeta w Polsce. Już
	 w dniach 4 i 5 lipca bieżącego roku\, w Zespole Szkół Numer 18 w Wars
	zawie odbędzie się to wspaniałe wydarzenie! Serdecznie zapraszamy wszys
	tkich bronies i naszych sympatyków.\nDokładne dane wkrótce. Planujemy w
	iele atrakcji\, w tym spotkanie z lektorami pracującymi przy polskiej wer
	sji serialu\, a także szereg innych rzeczy!\n
DTSTART;VALUE=DATE:20150704
DTEND;VALUE=DATE:20150706
END:VEVENT
BEGIN:VEVENT
SUMMARY:Airsoftowy Ponymeet Killhouse Warszawa
DTSTAMP:20140205T194155Z
SEQUENCE:0
UID:19-13-06383f3d05cd38aec216ab67a22f00e2@mlppolska.pl
ORGANIZER;CN="Foley":administracja@mlppolska.pl
DESCRIPTION:\nPierwszy Airsoftowy  Ponymeet\, który odbędzie się w wa
	rszawskim Killhouse!\nPo więcej informacji\, patrz temat na forum \"You h
	ave seen nothing!\"\n
DTSTART;VALUE=DATE:20140223
END:VEVENT
BEGIN:VEVENT
SUMMARY:Szczeciński Heart's Warming Eve
DTSTAMP:20131212T000720Z
SEQUENCE:1
UID:18-13-06383f3d05cd38aec216ab67a22f00e2@mlppolska.pl
ORGANIZER;CN="Fragin":administracja@mlppolska.pl
DESCRIPTION:\nInformacje:\nhttp://mlppolska.pl/watek/8507-szczeciński-h
	earts-warming-eve/\nhttps://www.facebook.com/events/240275266140327/?ref=3
	&amp\;ref_newsfeed_story_type=regular\nhttp://bronies.szczecin.pl\n
DTSTART;VALUE=DATE:20131221
END:VEVENT
BEGIN:VEVENT
SUMMARY:Bielski Ponymeet XVII
DTSTAMP:20130623T055117Z
SEQUENCE:0
UID:11-13-06383f3d05cd38aec216ab67a22f00e2@mlppolska.pl
ORGANIZER;CN="Skysplit":administracja@mlppolska.pl
DESCRIPTION:\nKolejny ponymeet w Bielsku-Białej. Nikt naprawdę nie wie
	 jaki ma numer\, bo wszyscy stracili rachubę po XV.\nWydarzenie na fejsbo
	gu: https://www.facebook.com/events/261301830676030/264196170386596/\n
DTSTART;VALUE=DATE:20130629
END:VEVENT
BEGIN:VEVENT
SUMMARY:Ponymeat - Zielona Góra
DTSTAMP:20130524T133619Z
SEQUENCE:0
UID:9-13-06383f3d05cd38aec216ab67a22f00e2@mlppolska.pl
ORGANIZER;CN="0NQjbwAiT0PEueCT":administracja@mlppolska.pl
DESCRIPTION:\nZapraszam wszystkich na chyba drugi Zielonogórski Ponymea
	t.\n\nWięcej info i zapisy: http://mlppolska.pl/watek/5854-zielonogórski
	-ponymeat/\n
DTSTART;VALUE=DATE:20130607
END:VEVENT
BEGIN:VEVENT
SUMMARY:XXIII Śląski Ponymeet
DTSTAMP:20130521T075213Z
SEQUENCE:0
UID:8-13-06383f3d05cd38aec216ab67a22f00e2@mlppolska.pl
ORGANIZER;CN="Kocia Wiedźma":administracja@mlppolska.pl
DESCRIPTION:\nXXIII Śląski Ponymeet\n8 czerwca 2013 roku\, godzina 12.
	 Silesia City Center plac letni.\n
DTSTART;VALUE=DATE:20130608
END:VEVENT
BEGIN:VEVENT
SUMMARY:II Wałbrzyski Pony Meet
DTSTAMP:20130429T100755Z
SEQUENCE:0
UID:7-13-06383f3d05cd38aec216ab67a22f00e2@mlppolska.pl
ORGANIZER;CN="Silver Shield":administracja@mlppolska.pl
DESCRIPTION:\nInformacje tutaj:\nhttps://www.facebook.com/events/4911475
	14272095/?ref=ts&amp\;fref=ts\n
DTSTART;VALUE=DATE:20130504
END:VEVENT
BEGIN:VEVENT
SUMMARY:VI Zgorzelecki Ponymeet
DTSTAMP:20130427T234516Z
SEQUENCE:0
UID:6-13-06383f3d05cd38aec216ab67a22f00e2@mlppolska.pl
ORGANIZER;CN="Emronn Marvelous":administracja@mlppolska.pl
DESCRIPTION:Zapraszamy do Zgorzelca! Przy okazji też do tematu\, gdzie 
	i Ty możesz pomóc utworzyć nam jakieś ciekawe atrakcje \nhttp://mlppol
	ska.pl/watek/4791-vi-zgorzelecki-ponymeet/
DTSTART;VALUE=DATE:20130518
END:VEVENT
END:VCALENDAR
