BEGIN:VCALENDAR
VERSION:2.0
PRODID:-//IP.Board Calendar 4.7.1//EN
METHOD:PUBLISH
CALSCALE:GREGORIAN
BEGIN:VTIMEZONE
TZID:Europe/London
TZURL:http://tzurl.org/zoneinfo/Europe/London
X-LIC-LOCATION:Europe/London
BEGIN:DAYLIGHT
TZOFFSETFROM:+0000
TZOFFSETTO:+0100
TZNAME:BST
DTSTART:20180325T020000Z
RRULE:FREQ=YEARLY;BYMONTH=3;BYDAY=-1SU
END:DAYLIGHT
BEGIN:STANDARD
TZOFFSETFROM:+0100
TZOFFSETTO:+0000
TZNAME:GMT
DTSTART:20181028T020000Z
RRULE:FREQ=YEARLY;BYMONTH=10;BYDAY=-1SU
END:STANDARD
END:VTIMEZONE
BEGIN:VTIMEZONE
TZID:Europe/London
TZURL:http://tzurl.org/zoneinfo/Europe/London
X-LIC-LOCATION:Europe/London
BEGIN:DAYLIGHT
TZOFFSETFROM:+0000
TZOFFSETTO:+0100
TZNAME:BST
DTSTART:20170326T020000Z
RRULE:FREQ=YEARLY;BYMONTH=3;BYDAY=-1SU
END:DAYLIGHT
BEGIN:STANDARD
TZOFFSETFROM:+0100
TZOFFSETTO:+0000
TZNAME:GMT
DTSTART:20171029T020000Z
RRULE:FREQ=YEARLY;BYMONTH=10;BYDAY=-1SU
END:STANDARD
END:VTIMEZONE
BEGIN:VTIMEZONE
TZID:Europe/London
TZURL:http://tzurl.org/zoneinfo/Europe/London
X-LIC-LOCATION:Europe/London
BEGIN:DAYLIGHT
TZOFFSETFROM:+0000
TZOFFSETTO:+0100
TZNAME:BST
DTSTART:20160327T020000Z
RRULE:FREQ=YEARLY;BYMONTH=3;BYDAY=-1SU
END:DAYLIGHT
BEGIN:STANDARD
TZOFFSETFROM:+0100
TZOFFSETTO:+0000
TZNAME:GMT
DTSTART:20161030T020000Z
RRULE:FREQ=YEARLY;BYMONTH=10;BYDAY=-1SU
END:STANDARD
END:VTIMEZONE
BEGIN:VTIMEZONE
TZID:Europe/London
TZURL:http://tzurl.org/zoneinfo/Europe/London
X-LIC-LOCATION:Europe/London
BEGIN:DAYLIGHT
TZOFFSETFROM:+0000
TZOFFSETTO:+0100
TZNAME:BST
DTSTART:20150329T020000Z
RRULE:FREQ=YEARLY;BYMONTH=3;BYDAY=-1SU
END:DAYLIGHT
BEGIN:STANDARD
TZOFFSETFROM:+0100
TZOFFSETTO:+0000
TZNAME:GMT
DTSTART:20151025T020000Z
RRULE:FREQ=YEARLY;BYMONTH=10;BYDAY=-1SU
END:STANDARD
END:VTIMEZONE
BEGIN:VEVENT
SUMMARY:Pyrkon 2018
DTSTAMP:20180422T190944Z
SEQUENCE:0
UID:105-17-06383f3d05cd38aec216ab67a22f00e2@mlppolska.pl
ORGANIZER;CN="The Silver Cheese":administracja@mlppolska.pl
DESCRIPTION:\n	Dobry miesiąc został do największego wydarzenia / konw
	entu fantastycznego w Polsce\, czyli Pyrkonu 2018. Jako\, że to miejsce g
	dzie spotkać można dosłownie wszystkich - od fascynatów literatury p
	o fanów mangi i anime kończąc\, to także i dla nas może małe miejsc
	e się znajdzie. Co wy na to\, aby się spotkać i pokazać\, że jeszcze 
	ten fandom aż taki martwy nie jest ?\n\n\n\n	 \n\n\n\n	Planowo spotkani
	e pewnie sobota i godzina jakaś w granicach 15 - 16. Koniec możemy zwie
	ńczyć obejrzeniem najnowszego odcinka o 17:30. Wstępny plan na razie\, 
	przed konwentem zapewne się wszystko dopowie.\n\n\n\n	 \n\n\n\n	Widzimy 
	się w Poznaniu !!\n
DTSTART:20180518T080000Z
DTEND:20180520T130000Z
ATTENDEE;CN="The Silver Cheese";CUTYPE=INDIVIDUAL;PARTSTAT=A
	CCEPTED:administracja@mlppolska.pl
ATTENDEE;CN="Blueprint";CUTYPE=INDIVIDUAL;PARTSTAT=ACCEPTED:
	administracja@mlppolska.pl
ATTENDEE;CN="InżCzesio";CUTYPE=INDIVIDUAL;PARTSTAT=ACCEPTED
	:administracja@mlppolska.pl
ATTENDEE;CN="BiP";CUTYPE=INDIVIDUAL;PARTSTAT=ACCEPTED:admini
	stracja@mlppolska.pl
END:VEVENT
BEGIN:VEVENT
SUMMARY:V Minimeet Leszna i Okolic
DTSTAMP:20170708T153106Z
SEQUENCE:0
UID:90-17-06383f3d05cd38aec216ab67a22f00e2@mlppolska.pl
ORGANIZER;CN="Cirth":administracja@mlppolska.pl
DESCRIPTION:\n\n	Piąte spotkanie bronies w Lesznie.\n\n\n\n	Godzina: 11
	\n\n\n\n	Miejsce: CH Manhattan\, przed Empikiem\n\n\n\n	 \n\n\n\n	Więcej
	 informacji w temacie lub grupie na FB.\n\n
DTSTART;VALUE=DATE:20170722
END:VEVENT
BEGIN:VEVENT
SUMMARY:IV Minimeet Leszna i okolic
DTSTAMP:20170313T172615Z
SEQUENCE:0
UID:81-17-06383f3d05cd38aec216ab67a22f00e2@mlppolska.pl
ORGANIZER;CN="Cirth":administracja@mlppolska.pl
DESCRIPTION:\n	Czwarte już spotkanie fanów kolorowych kucyków nie tyl
	ko z Leszna \n\n\n	Data: 22 kwietnia\n\n	Godzina: 12:00\n\n	Miejsce: CH M
	anhattan\, koło wejścia do Empiku\n\n\n\n	 \n\n\n\n	Więcej informacji
	 tutaj\n\n\n\n	lub przez PW\n\n\n\n	 \n\n\n\n	Serdecznie zapraszamy!\n
DTSTART;VALUE=DATE:20170422
ATTENDEE;CN="Cluvry";CUTYPE=INDIVIDUAL;PARTSTAT=ACCEPTED:adm
	inistracja@mlppolska.pl
ATTENDEE;CN="Blueprint";CUTYPE=INDIVIDUAL;PARTSTAT=ACCEPTED:
	administracja@mlppolska.pl
END:VEVENT
BEGIN:VEVENT
SUMMARY:III Minimeet Leszna i Okolic
DTSTAMP:20160611T191029Z
SEQUENCE:0
UID:47-17-06383f3d05cd38aec216ab67a22f00e2@mlppolska.pl
ORGANIZER;CN="Cirth":administracja@mlppolska.pl
DESCRIPTION:\n\n	Trzeci w historii fandomu leszczyńskiego minimeet ^^\n
	\n\n\n	 \n\n\n\n	Dokładna lokalizacja:\n\n\n\n	CH Manhattan\, przed wej
	ściem do Empiku.\n\n\n\n	 \n\n\n\n	Zapraszamy!\n\n
DTSTART:20160702T090000Z
DTEND:20160701T220000Z
END:VEVENT
BEGIN:VEVENT
SUMMARY:Mini Ponymeet PGA 2015
DTSTAMP:20151014T204158Z
SEQUENCE:0
UID:30-17-06383f3d05cd38aec216ab67a22f00e2@mlppolska.pl
ORGANIZER;CN="Tyber":administracja@mlppolska.pl
DESCRIPTION:PGA Witam wszystkich organizuję mini meeta na PGA i chęt
	nym przedstawię tutaj najważniejsze informacje.-Kiedy? w Sobotę -O kt
	órej? wstępnie o 13:00 ale do ustalenia -Gdzie? I tutaj dam mapkę na s
	creenie http://scr.hu/15ey/85htiCel meeta jest taki żeby luźnie sobie p
	ogadać i po prostu spotkać po zbiórce najpewniej wejdziemy do środka b
	o zimno jest \,a nie chce robić jej w środku bo tam może być za duży
	 tłok -Kontakt do mnie:https://www.facebook.com/profile.php?id=1000095119
	80894 można spokojnie dodać i telefon: (tylko jak już dzwonić to 18-2
	0 godzina w piątek a w sobote do oporu możecie) 502277097  
DTSTART;VALUE=DATE:20151017
ATTENDEE;CN="Eter";CUTYPE=INDIVIDUAL;PARTSTAT=ACCEPTED:admin
	istracja@mlppolska.pl
ATTENDEE;CN="BiP";CUTYPE=INDIVIDUAL;PARTSTAT=ACCEPTED:admini
	stracja@mlppolska.pl
ATTENDEE;CN="Tyber";CUTYPE=INDIVIDUAL;PARTSTAT=ACCEPTED:admi
	nistracja@mlppolska.pl
END:VEVENT
END:VCALENDAR
