BEGIN:VCALENDAR
VERSION:2.0
PRODID:-//IP.Board Calendar 4.7.1//EN
METHOD:PUBLISH
CALSCALE:GREGORIAN
BEGIN:VTIMEZONE
TZID:Europe/London
TZURL:http://tzurl.org/zoneinfo/Europe/London
X-LIC-LOCATION:Europe/London
BEGIN:DAYLIGHT
TZOFFSETFROM:+0000
TZOFFSETTO:+0100
TZNAME:BST
DTSTART:20160327T020000Z
RRULE:FREQ=YEARLY;BYMONTH=3;BYDAY=-1SU
END:DAYLIGHT
BEGIN:STANDARD
TZOFFSETFROM:+0100
TZOFFSETTO:+0000
TZNAME:GMT
DTSTART:20161030T020000Z
RRULE:FREQ=YEARLY;BYMONTH=10;BYDAY=-1SU
END:STANDARD
END:VTIMEZONE
BEGIN:VTIMEZONE
TZID:Europe/London
TZURL:http://tzurl.org/zoneinfo/Europe/London
X-LIC-LOCATION:Europe/London
BEGIN:DAYLIGHT
TZOFFSETFROM:+0000
TZOFFSETTO:+0100
TZNAME:BST
DTSTART:20150329T020000Z
RRULE:FREQ=YEARLY;BYMONTH=3;BYDAY=-1SU
END:DAYLIGHT
BEGIN:STANDARD
TZOFFSETFROM:+0100
TZOFFSETTO:+0000
TZNAME:GMT
DTSTART:20151025T020000Z
RRULE:FREQ=YEARLY;BYMONTH=10;BYDAY=-1SU
END:STANDARD
END:VTIMEZONE
BEGIN:VEVENT
SUMMARY:Czwórkon - 1. edycja konwentu fantastyki
DTSTAMP:20161015T172319Z
SEQUENCE:0
UID:63-4-06383f3d05cd38aec216ab67a22f00e2@mlppolska.pl
ORGANIZER;CN="Gray Picture":administracja@mlppolska.pl
DESCRIPTION:\n	Na wstępie zaznaczę\, że NIE jestem organizatorką kon
	wentu\, a jedynie z własnej woli o nim zawiadamiam.\n\n\n\n	 \n\n\n\n	W 
	Bydgoszczy już jakiś czas temu odbył się Bykon\, a teraz kolejna szko
	ła organizuje konwent. Choć w przypadku Czwórkonu należałoby raczej 
	powiedzieć \"konwencik\"\, bo do największych z tego co wiem należeć n
	ie będzie. Mimo to uważam\, że ci co mają czas lub mieszkają w Bydgos
	zczy bądź okolicach oraz chcą zobaczyć moją mordkę na żywo pow
	inni wpaść \n\n\n	\n		Spoiler\n	\n\n	\n		\n			\n\n		\n			\n\n		\n			\n\
	n		\n			 \n		\n	\n\n\n\n	 \n\n\n\n	\n		Spoiler\n	\n\n	\n		\n			IV Liceum
	 Ogólnokształcące imienia Kazimierza Wielkiego w\n\n			 Bydgoszczy ma 
	zaszczyt zaprosić na pierwszy\, w tym miejscu\,\n\n			 Konwent fantastyk
	i Czwórkon\, który odbędzie się 28 - 29 października 2016 w budynku 
	szkoły. Wśród atrakcji\, których lista nadal się rozszerza\, są tak
	ie\, które zainteresują młodych i starszych odbiorców fantastyki. Każ
	da sala będzie innym hołdem składanym gatunkowi. Będą komiksy\, ksi
	ążki\, planszówki\, warsztaty\, prelekcje i cuda niewidy. Zamkniemy gr
	upę śmiałków do pokoju zagadek\, wyzwiemy armie śródziemia na karton
	owe pole walki\, uratujemy świat przez atakiem zombie. Posłuchamy mento
	rów\, którzy pomogą nam przetrwać w fantastycznym świecie. Wiec kto 
	żyw\, WSZYSTKIE RĘCE NA POKŁAD  &lt\;--tekst skopiowany ze strony wyda
	rzenia\, bo żeby nie musieć samemu podobnego wymyślać.\n		\n	\n\n\n\n	
	Informacje:\n\n\n\n	Miejsce: Stawowa 39\, Bydgoszcz\n\n\n\n	Data: od 28 (g
	odz.14-20) do 29 (godzi.9-17) października\n\n\n\n	Strona internetowa:
	 http://4kon.pl/index.htm\n\n\n\n	Wydarzenie na Facebooku: https://www.f
	acebook.com/events/164362710676891/?active_tab=about\n\n\n\n	Cena i strona
	 do rezerwacji wejściówek: free i \n\n\n\n	https://www.eventbrite.com/e
	/czworkon-2016-rezerwacja-miejsc-tickets-27924576159?aff=utm_source%3Deb_e
	mail%26utm_medium%3Demail%26utm_campaign%3Dnew_event_email&amp\;utm_term=e
	ventname_text\n\n\n\n	 \n\n\n\n	Bardzo ważna informacja: na konwencie NI
	E ma noclegu\, a prelekcje i atrakcje będą się dobywać od 14 w piątek
	 do wieczora\, w sobotę od rana do popołudnia (dokładne godziny podam\,
	 jak będę je znać).\n
DTSTART;VALUE=DATE:20161028
DTEND;VALUE=DATE:20161030
END:VEVENT
BEGIN:VEVENT
SUMMARY:Bykon - Bydgoski Konwent Multifandomowy
DTSTAMP:20160216T172029Z
SEQUENCE:0
UID:42-4-06383f3d05cd38aec216ab67a22f00e2@mlppolska.pl
ORGANIZER;CN="Siper":administracja@mlppolska.pl
DESCRIPTION:\n\n\n	Zapraszamy na bydgoski konwent zbierający pasjonató
	w najpopularniejszych fandomów w jednym miejscu! \n\n\n\n	Poznaj ciekawo
	stki na temat ulubionych tytułów na prelekcjach\, odpręż się grając 
	w planszówki i gry elektroniczne\, odkryj swoje nowe oblicze na LARP-ach 
	i zgłębiaj tajemniczy świat postapo! \n\n\n\n	Strona internetowa: www
	.bykon.pl\n\n\n	Cena wejściówki: 20 zł\n\n\n	Rezerwacja miejsc: http:/
	/www.bykon.pl/2016/01/rezerwacje.html\n\n\n	Cosplayerzy wchodzą taniej po
	 uprzedniej rezerwacji!\n\n\n\n	Skontaktuj się z nami!\n\n\n\n	Sprawy dot
	yczące wystawców\, media\, patronatu\, sponsorów\, partnerstwa - organi
	zacja@bykon.pl\n\n\n\n	Sprawy dotyczące wejściówek\, patrolu\, gżdaczy
	\, medyków\, systemu rezerwacji - akredytacja@bykon.pl\n\n\n\n	Sprawy dot
	yczące programu i atrakcji: program@bykon.pl\n\n\n\n	Zgłaszanie punktów
	 programu -  http://www.bykon.pl/2016/01/zgoszenie-atrakcji.html\n\n\n
DTSTART:20160319T110000Z
DTEND:20160320T120000Z
ATTENDEE;CN="Siper";CUTYPE=INDIVIDUAL;PARTSTAT=ACCEPTED:admi
	nistracja@mlppolska.pl
ATTENDEE;CN="Gray Picture";CUTYPE=INDIVIDUAL;PARTSTAT=ACCEPT
	ED:administracja@mlppolska.pl
ATTENDEE;CN="Mates";CUTYPE=INDIVIDUAL;PARTSTAT=ACCEPTED:admi
	nistracja@mlppolska.pl
ATTENDEE;CN="Fizyk";CUTYPE=INDIVIDUAL;PARTSTAT=ACCEPTED:admi
	nistracja@mlppolska.pl
END:VEVENT
BEGIN:VEVENT
SUMMARY:Przystanek Pinkoszcz - Stacja Kolędowa
DTSTAMP:20151127T141007Z
SEQUENCE:0
UID:36-4-06383f3d05cd38aec216ab67a22f00e2@mlppolska.pl
ORGANIZER;CN="Grom":administracja@mlppolska.pl
DESCRIPTION:\n\n	Ostatni Przystanek w tym roku\, zakończmy go z przytup
	em!Święta nadchodzą\, i wszyscy się radują. Czemu więc nie radować
	 się razem\, wśród śpiewów i muzyki? Oto nadciąga\, Przystanek Pinko
	szcz - Stacja Kolędowa!Meet odbędzie się w Zespole Szkół nr 23 w Bydg
	oszczy (osiedle Miedzyń). Ulica: Nakielska 273Meet będzie się odbywał
	 w godzinach 12:15 do 17:45W trakcie meeta chcielibyśmy poświętować pr
	zy wspólnym stole\, tak więc gotujcie się. W te wspaniałe dni dary prz
	ekazywane sobie są wspaniałą sprawą\, więc przyłóżmy razem rękę
	 i stwórzmy nasz wigilijny stół.Serdecznie zapraszam wszystkich do przy
	gotowania czegoś dla innych\, czy to własnoręcznie robionego ciasta czy
	 ciasteczek\, albo nawet prostego przyniesiecia paczuszki słodkości. B
	ądźmy razem\, świętujmy razem!\n\n\n	I nie zapomnijcie swoich domowych
	 kucyków. Pluszaki\, figurki\, zabierzcie je ze sobą! Dla nich też będ
	zie prezent\, jako jedna z atrakcji będzie... tworzenie czapeczek Mikoła
	ja dla kucyków. \n\n\n	Do tego\, by Przystanek mógł się odbywać cz
	ęściej\, będziemy mieli na miejscu pierwsze \"cegiełki\"\, pieniądze 
	z ich sprzedaży będą przeznaczone na kolejną Pinkoszcz. Szykujcie drob
	ne\, bo to kolekcje limitowane!\n\n\n	No i klasycznie\, nasz wspaniały ry
	sownik Ruhisu będzie prowadzić kącik rysunkowy dla chętnych. Co do pre
	lekcji\, stay tuned. \n\n\n	Dojazd środkami komunikacji miejskiej: \n\n
		Autobus nr. 56 w kierunku \"Lisia\" lub \"Belma\" jest głównym środkie
	m transportu. Trzeba nim dojechać do przystanku Nakielska/Żywiecka. Łat
	wo rozpoznać\, z lewej strony pojawi się sklep Lidl. Po wyjściu z autob
	usu należy skierować się w lewo (zgodnie z ruchem autobusu) do najbliż
	szego przejścia dla pieszych\, przy cukierni Staropolska. Po drugiej stro
	nie ulicy znajduje się Zespół Szkół nr 23. \n\n\n	Regulamin: \n1. N
	a terenie szkoły obowiązują przepisy szkoły (zakaz palenia tytoniu i e
	-papierosów\, picia alkoholu oraz innych środków odurzających/psychotr
	opowych\, zażywania tabaki itd.) \n\n	2. Uczestnicy są zobowiązani prz
	estrzegać bezwzględnie poleceń obsługi.\n\n	3. W razie wyrządzonych 
	szkód\, odpowiedzialność i koszty ich pokrycia ponosi sprawca.\n\n	4. N
	a meecie można przebywać tylko w miejscach\, które wskażą organizator
	zy.\n\n	5. Regulamin może ulec zmianie.\n\n\n	Instrukcje dojazdowe dla te
	ren spotkania: \n\n	Wersja online: \nhttps://docs.google.com/file/d/0B9Q
	aIiJ-_G-qQklsSVpmODF2ekE\n\n	Wyższa jakościowo wersja do pobrania: \nht
	tp://trojmiasto.bronies.pl/szuflada/Przystanek_Pinkoszcz.pdf\n\n\n	Numer k
	ontaktowy: 668280217\n\n
DTSTART:20151220T111500Z
DTEND:20151220T164500Z
END:VEVENT
END:VCALENDAR
