BEGIN:VCALENDAR
VERSION:2.0
PRODID:-//IP.Board Calendar 4.7.1//EN
METHOD:PUBLISH
CALSCALE:GREGORIAN
X-WR-CALNAME:Śląskie
BEGIN:VTIMEZONE
TZID:Europe/London
TZURL:http://tzurl.org/zoneinfo/Europe/London
X-LIC-LOCATION:Europe/London
BEGIN:DAYLIGHT
TZOFFSETFROM:+0000
TZOFFSETTO:+0100
TZNAME:BST
DTSTART:20180325T020000Z
RRULE:FREQ=YEARLY;BYMONTH=3;BYDAY=-1SU
END:DAYLIGHT
BEGIN:STANDARD
TZOFFSETFROM:+0100
TZOFFSETTO:+0000
TZNAME:GMT
DTSTART:20181028T020000Z
RRULE:FREQ=YEARLY;BYMONTH=10;BYDAY=-1SU
END:STANDARD
END:VTIMEZONE
BEGIN:VEVENT
SUMMARY:LXX Śląski Ponymeet
DTSTAMP:20180102T175733Z
SEQUENCE:0
UID:101-14-06383f3d05cd38aec216ab67a22f00e2@mlppolska.pl
ORGANIZER;CN="The Silver Cheese":administracja@mlppolska.pl
DESCRIPTION:\n	Nowy Rok\, nowe przygody\, nowe postanowienia noworoczne 
	i przede wszystkim kolejne meet'owe śląskie spotkania. Jak co miesiąc s
	potkamy się razem\, wspólnie jedząc\, grając\, porozmawiać czy prz
	ejść się w nowe miejsce. Spotkanie zaś:\n\n\n	1) Odbędzie się 13 sty
	cznia w Katowicach \;\n\n\n\n	\n\n	2) Standardowo widzimy się na Placu Le
	tnim w Silesia City Center \;\n\n\n\n	\n\n	3) Godzina rozpoczęcia to 12:0
	0 jednak grupka będzie się zbierała już od 11:00 \;\n\n\n\n	\n\n	4) Pl
	anowo większych rewelacji nie ma\, więc pozostawiamy tą sprawę losowi 
	.\n\n\n\n	\n\n	5) Miejcie ze sobą dobry humor\, piniążki\, także pomy
	sły na dobre spędzenie czasu .\n\n\n	Tyle z naszej strony. Widzimy się 
	13 stycznia w sobotę .\n\n~Cheese\n
DTSTART:20180113T110000Z
DTEND:20180113T170000Z
ATTENDEE;CN="The Silver Cheese";CUTYPE=INDIVIDUAL;PARTSTAT=A
	CCEPTED:administracja@mlppolska.pl
END:VEVENT
END:VCALENDAR
