BEGIN:VCALENDAR
VERSION:2.0
PRODID:-//IP.Board Calendar 4.7.1//EN
METHOD:PUBLISH
CALSCALE:GREGORIAN
X-WR-CALNAME:Śląskie
BEGIN:VTIMEZONE
TZID:Europe/London
TZURL:http://tzurl.org/zoneinfo/Europe/London
X-LIC-LOCATION:Europe/London
BEGIN:DAYLIGHT
TZOFFSETFROM:+0000
TZOFFSETTO:+0100
TZNAME:BST
DTSTART:20180325T020000Z
RRULE:FREQ=YEARLY;BYMONTH=3;BYDAY=-1SU
END:DAYLIGHT
BEGIN:STANDARD
TZOFFSETFROM:+0100
TZOFFSETTO:+0000
TZNAME:GMT
DTSTART:20181028T020000Z
RRULE:FREQ=YEARLY;BYMONTH=10;BYDAY=-1SU
END:STANDARD
END:VTIMEZONE
BEGIN:VEVENT
SUMMARY:LXXIV Śląski Ponymeet
DTSTAMP:20180601T195331Z
SEQUENCE:0
UID:107-14-06383f3d05cd38aec216ab67a22f00e2@mlppolska.pl
ORGANIZER;CN="The Silver Cheese":administracja@mlppolska.pl
DESCRIPTION:\n	Ciepło co nie? Lato chyba już powoli gości w Polsce. P
	ogoda wprost wymarzona\, aby pozostać w domu i nic nie robić. Albo ... p
	rzyjechać do Katowic\, bo pora na 74 edycję Śląskiego Ponymeeta! Dla 
	osób niezaznajomionych z tematyką naszych spotkań\, zapraszamy parę li
	nijek niżej do zakładki \"DLA NOWYCH\".\n\nKiedy ? \n\n	16 czerwca o go
	dzinie 12:00 (ekipa jest zwykle już od 11:00)\;\n\nGdzie ?\n\n	Katowice\,
	 Silesia City Center na Placu Letnim (stoliki przy Subway'u)\;\n\nCzy mam 
	coś ze sobą wziąć ?\n\n	Pieniążki\, znajomych\, dobry humor\, jak je
	st pogoda (a raczej będzie) to jakiś koc lub piłkę\, aby miło spędz
	ić czas w Parku Śląskim . \n\n\n	Tyle z ogłoszeń. Widzimy się 16 cz
	erwca .\n\n//---------------------------------------------------------\n\n
		DLA NOWYCH\n\n	//--------------------------------------------------------
	-\n\n	Jeśli będziesz 1 raz na Śląskim Ponymeecie to warto zapoznać s
	ię z ogólną tematyką jak u nas panuje:\n\n\n	1. Spotkania są luźne\
	, można by rzec\, zwykłe spotkanie ze znajomymi. Wspólnie gadamy\, śmi
	ejemy się\, gramy w planszówki\, etc. Szału nie ma\, bo nie mamy możl
	iwości wynajmu w każdym miesiącu szkoły.\n\n\n	2. Nie bój się pode
	jść i zapytać. Zdarzały się przypadki\, gdzie nowo przybyły zac
	zął krążyć wokół nas\, nie wiedząc czy to jest ta grupka nienormal
	nych ludzi xD. Wygląda to komicznie z naszego punktu widzenia\, dlatego n
	ie bój się i podejdź. My Cię nie znamy\, więc tak na dobrą sprawę T
	y powinieneś nam się przedstawić. My chętnie przyjmiemy każdego noweg
	o uczestnika.\n\n\n	3. Spotkania są mocno oparte na integracji. Zarzuć j
	akimś tematem lub dołącz do wspólnej gry. Trochę boli jak ktoś przyc
	hodzi i przez całe spotkanie wyłącznie słucha i siedzi na uboczu. \n\
	n\n	4. W razie jakichkolwiek innych pytań pisz do - @The Silver Cheese\n
DTSTART:20180616T100000Z
DTEND:20180616T160000Z
ATTENDEE;CN="The Silver Cheese";CUTYPE=INDIVIDUAL;PARTSTAT=A
	CCEPTED:administracja@mlppolska.pl
END:VEVENT
END:VCALENDAR
