BEGIN:VCALENDAR
VERSION:2.0
PRODID:-//IP.Board Calendar 4.7.1//EN
METHOD:PUBLISH
CALSCALE:GREGORIAN
X-WR-CALNAME:Śląskie
BEGIN:VTIMEZONE
TZID:Europe/London
TZURL:http://tzurl.org/zoneinfo/Europe/London
X-LIC-LOCATION:Europe/London
BEGIN:DAYLIGHT
TZOFFSETFROM:+0000
TZOFFSETTO:+0100
TZNAME:BST
DTSTART:20180325T020000Z
RRULE:FREQ=YEARLY;BYMONTH=3;BYDAY=-1SU
END:DAYLIGHT
BEGIN:STANDARD
TZOFFSETFROM:+0100
TZOFFSETTO:+0000
TZNAME:GMT
DTSTART:20181028T020000Z
RRULE:FREQ=YEARLY;BYMONTH=10;BYDAY=-1SU
END:STANDARD
END:VTIMEZONE
BEGIN:VEVENT
SUMMARY:Świąteczny LXXX Śląski Ponymeet
DTSTAMP:20181127T100954Z
SEQUENCE:0
UID:113-14-06383f3d05cd38aec216ab67a22f00e2@mlppolska.pl
ORGANIZER;CN="The Silver Cheese":administracja@mlppolska.pl
DESCRIPTION:\n	\"Zaśnieżone miasta\n\n	rozpędzone sny\n\n	w świat k
	tóremu braknie tchu\n\n	spokój się zakrada znów....\"\n\nNie mogłem 
	się powstrzymać . Tak\, tak\, coraz bliżej idą Święta\, ale przed s
	amymi Świętami chcemy się wspólnie spotkać na ostatnim w tym roku Ś
	ląskim Ponymeecie! Jak jesteś nowy\, przewiń nieco niżej\, to przybli
	żymy Ci co i jak odnośnie meet'ów na Ślunsku.\n\n\n	Standardowo rozpis
	ka z pytaniami\, które rozwieją wasze wątpliwości. Przypominamy też\
	, że na meecie odbędzie się Mikołajkowe obdarowywanie prezentów\, i 
	każdy może wziąć udział - potrzeba chęci\, czasu\, aby pomaszerować
	 po sklepach i min 20 zł\, aby uszczęśliwić drugą osobę prezentem.\n
	\n\n	Kiedy się spotykamy ?\n\n	15 grudnia o 12:00 - ekipa zwykle już jes
	t od 11:00.\n\n\n	Gdzie to ma miejsce ?\n\n	W Silesia City Center\, możli
	we\, że koło 14 - 15 przejdziemy się na mały spacer\, w inne miejsce\,
	 aby rozprostować kości. \n\n\n	Czy trzeba się jakoś przygotować ?\n
	\n	Ostatni tegoroczny Śląski ma być! Warto o jakąś planszówkę zadb
	ać\, mieć dobry humor i oczywiście być otwartym na nasze rozmowy i zab
	awy. \n\n\n	Tyle z naszej strony. Mamy nadzieję\, że licznie się pojaw
	icie\, jak i weźmiecie udział w Mikołajkowej zabawi - szczegóły jak i
	 samo objaśnienie omówię też na miejscu. Do zobaczenia w grudniu .\n\n
	\"...otulony puchem\n\n	siadł przy drodze czas\n\n	widział jak znajomy k
	toś\n\n	niósł choinkę pod twój dom\"\n\n\n\n	 \n\n\n\n	//-----------
	----------------------------------------------\n\n	DLA NOWYCH \n//-------
	--------------------------------------------------\n\n\n\n	\n\n	Jeśli bę
	dziesz 1 raz na Śląskim Ponymeecie to warto zapoznać się z ogólną t
	ematyką jaka u nas panuje:\n\n\n	1. Spotkania są luźne\, można by rzec
	\, zwykłe spotkanie ze znajomymi. Wspólnie gadamy\, śmiejemy się\, gra
	my w planszówki\, etc. Szału nie ma\, bo nie mamy możliwości wynajmu 
	w każdym miesiącu szkoły.\n\n\n	2. Nie bój się podejść i zapytać.
	 Zdarzały się przypadki\, gdzie nowo przybyły zaczął krążyć wokó
	ł nas\, nie wiedząc czy to jest ta grupka nienormalnych ludzi xD. Wyglą
	da to komicznie z naszego punktu widzenia\, dlatego nie bój się i podej
	dź. My Cię nie znamy\, więc tak na dobrą sprawę Ty powinieneś nam s
	ię przedstawić. My chętnie przyjmiemy każdego nowego uczestnika.\n\n\n
		3. Spotkania są mocno oparte na integracji. Zarzuć jakimś tematem lub
	 dołącz do wspólnej gry. Trochę boli jak ktoś przychodzi i przez cał
	e spotkanie wyłącznie słucha i siedzi na uboczu. \n\n\n	4. W razie jak
	ichkolwiek innych pytań pisz do - Krzysztof Mańka\n
DTSTART:20181215T110000Z
DTEND:20181215T170000Z
ATTENDEE;CN="The Silver Cheese";CUTYPE=INDIVIDUAL;PARTSTAT=A
	CCEPTED:administracja@mlppolska.pl
END:VEVENT
END:VCALENDAR
