BEGIN:VCALENDAR
VERSION:2.0
PRODID:-//IP.Board Calendar 4.7.1//EN
METHOD:PUBLISH
CALSCALE:GREGORIAN
X-WR-CALNAME:Pomorskie
BEGIN:VTIMEZONE
TZID:Europe/London
TZURL:http://tzurl.org/zoneinfo/Europe/London
X-LIC-LOCATION:Europe/London
BEGIN:DAYLIGHT
TZOFFSETFROM:+0000
TZOFFSETTO:+0100
TZNAME:BST
DTSTART:20160327T020000Z
RRULE:FREQ=YEARLY;BYMONTH=3;BYDAY=-1SU
END:DAYLIGHT
BEGIN:STANDARD
TZOFFSETFROM:+0100
TZOFFSETTO:+0000
TZNAME:GMT
DTSTART:20161030T020000Z
RRULE:FREQ=YEARLY;BYMONTH=10;BYDAY=-1SU
END:STANDARD
END:VTIMEZONE
BEGIN:VEVENT
SUMMARY:Trójmiejski Starlightmeet
DTSTAMP:20160728T131048Z
SEQUENCE:0
UID:53-13-06383f3d05cd38aec216ab67a22f00e2@mlppolska.pl
ORGANIZER;CN="SPIDIvonMARDER":administracja@mlppolska.pl
DESCRIPTION:\n\n	\n\n		\n\n\n\n	\n\n		 \n\n	\n\n\n\n	\n\n		Stowarzyszen
	ie Tribrony zaprasza na kolejnego meeta zorganizowanego\, nazwanego Starli
	ghtmeetem\, na którym gościć będzie Klaudia Kuchtyk\, a więc polski
	 głos właśnie Starlight Glimmer.\n\n	\n\n\n\n\n\n\n\n	\n\n		 \n\n	\n\
	n\n\n	\n\n		 \n\n	\n\n\n\n	\n\n		 \n\n	\n\n\n\n	\n\n		 \n\n	\n\n\n\n	\n
	\n		http://starlightmeet.tribrony.org\n\n	\n\n\n\n	\n\n		Ruszyła strona i
	nternetowa! Serdecznie zapraszamy\, można tutaj zapoznać się z detalami
	 imprezy. Atrakcje\, dojazdy\, noclegi!\n\n\n\n		 \n\n	\n\n\n\n	\n\n		REJ
	ESTRACJA\n\n\n		 \n\n	\n\n\n\n	\n\n		Część dzienna – 5 listopada (so
	bota) od 11.00 do 20.00\, tu odbędą się główne atrakcje\n\n	\n\n\n\n	
	\n\n		Część nocna – z 5 na 6 listopada\, od 20.00 wieczorem do 10.00 
	rano\, obejmująca nocleg i dodatkowe atrakcje\n\n	\n\n\n\n	\n\n		 \n\n	\
	n\n\n\n	\n\n		Miejsce: Szkoła Podstawowa nr 1 w Sopocie\, ul. Armii Krajo
	wej 50-54\n\n	\n\n\n\n	\n\n		 \n\n	\n\n\n\n	\n\n		Chcesz pomóc? Zostać 
	helperem lub ochroniarzem?\n\n	\n\n\n\n	\n\n		 \n\n	\n\n\n\n	\n\n		A moż
	e planujesz zrobić prelekcję\, konkurs lub inną atrakcję?\n\n	\n\n\n\n
		\n\n		 \n\n	\n\n\n\n	\n\n		Chcesz wystawić stoisko i sprzedawać kucyko
	we rzeczy?\n\n	\n\n\n\n	\n\n		 \n\n	\n\n\n\n\n\n\n\n	\n\n		 \n\n	\n\n\n\
	n\n\n\n\n	\n\n		Link do wydarzenia na facebooku\n\n	\n\n\n\n\n\n\n\n	\n\n	
		 \n\n	\n\n\n\n\n\n\n\n	\n\n		 \n\n	\n\n\n\n\n\n\n\n	\n\n		\n\n\n\n	\n\n
			 \n\n	\n\n\n\n	\n\n		 \n\n	\n\n\n\n\n\n\n\n	\n\n		 \n\n	\n\n\n\n	\n\n
			Atrakcją specjalną jest spotkanie z Klaudią Kuchtyk\, która użyczy
	ła swego głosu Starlight Glimmer. Będziemy mieli okazję z nią porozm
	awiać o tworzeniu polskiej wersji dubbingowej\, wspólnie pośpiewać\, a
	 także możemy spodziewać się jakiejś niespodzianki \n\n\n\n	\n\n		Tut
	aj możecie poczytać o naszym gościu więcej: http://dubbingpedia.pl/wi
	ki/Klaudia_Kuchtyk\n\n	\n\n\n\n	\n\n		 \n\n	\n\n\n\n\n\n\n\n	\n\n		Serdec
	znie zapraszamy! Widzimy się na meecie!\n\n	\n\n\n\n	\n\n		 \n\n	\n\n\n\
	n	\n\n		Termin został dogadany z Warszawą\, która również planuje teg
	o dnia imprezę.\n\n	\n\n
DTSTART:20161105T100000Z
DTEND:20161106T090000Z
END:VEVENT
END:VCALENDAR
