BEGIN:VCALENDAR
VERSION:2.0
PRODID:-//IP.Board Calendar 4.7.1//EN
METHOD:PUBLISH
CALSCALE:GREGORIAN
X-WR-CALNAME:Mazowieckie
BEGIN:VTIMEZONE
TZID:Europe/London
TZURL:http://tzurl.org/zoneinfo/Europe/London
X-LIC-LOCATION:Europe/London
BEGIN:DAYLIGHT
TZOFFSETFROM:+0000
TZOFFSETTO:+0100
TZNAME:BST
DTSTART:20160327T020000Z
RRULE:FREQ=YEARLY;BYMONTH=3;BYDAY=-1SU
END:DAYLIGHT
BEGIN:STANDARD
TZOFFSETFROM:+0100
TZOFFSETTO:+0000
TZNAME:GMT
DTSTART:20161030T020000Z
RRULE:FREQ=YEARLY;BYMONTH=10;BYDAY=-1SU
END:STANDARD
END:VTIMEZONE
BEGIN:VEVENT
SUMMARY:III Świąteczny Ponymeet
DTSTAMP:20161103T232557Z
SEQUENCE:0
UID:67-9-06383f3d05cd38aec216ab67a22f00e2@mlppolska.pl
ORGANIZER;CN="Wlocz":administracja@mlppolska.pl
DESCRIPTION:\n	Coraz bliżej Święta\, więc czas na III Świątecznego
	 Ponymeeta w Warszawie. Serdecznie zapraszamy\, Stowarzyszenie Warszawa Br
	onies.\n\n	Miejsce Ponymeeta: Bednarska Szkoła Realna na ulicy Kawalerii 
	5 (wejście od strony Ambasady Indii).\n\n	Czas trwania Ponymeeta: Od 10 g
	rudnia (sobota) godz. 12.00 (w południe) do 11 grudnia (niedziela) godz 1
	2.00 (w południe). Ponymeet potrwa więc aż 24 godziny! \n\n\n	Koszt bil
	etu: 10 PLN\n\n\n\n	 \n\n\n\n	RUSZA REJESTRACJA! \n\n\n\n	 \n\n\n\n	Ru
	sza rejestracja dla uczestników na III Świąteczny Ponymeet w Warszawie.
	\n\n\n\n	Dodatkowo jeśli chcesz wypożyczyć gry planszowe\, prowadzić a
	trakcje lub pomóc nam jako helper/ochroniarz\, to czym prędzej powinien
	eś zgłosić się do nas przez poniższy formularz:\n\n\n\n	https://docs.
	google.com/forms/d/e/1FAIpQLScvmxCc3s9oLAGyNuoL5EJtheNnlaEnFUajsn7JOhFfKuu
	7og/viewform\n\n\n\n	 \n\n\n\n	Link do wydarzenia na FB: https://www.face
	book.com/events/365858623755270/\n\n\n\n	 \n\n\n\n	Wstępny plan III Św
	iątecznego Ponymeeta*:\n\n	a) Parter:\n\n	1. Sala Wigilijna\n\n	17.00 Otw
	arcie sali\, wspólne zdjęcie i posiłek przy stole wigilijnym.\n\n	18.00
	 - 11.00 Nocne rozmowy przy stole wigilijnym.\n\n\n\n	 \n\n\n\n	2. Sala W
	arsa (Gameroom)\n\n	Gry do wypożyczenia na czas ponymeeta w godzinach 12.
	30-16.30 oraz 18.00-11.00\n\n\n\n	 \n\n\n\n	b) I Piętro\n\n	1. Sala Blea
	zy (Prelekcyjna)\n\n	12.00 Ceremonia Otwarcia\n\n	13.00 Prelekcja dla nowy
	ch (Wlocz)\n\n	Opis: Jesteś nowy w fandomie? Nie wiesz\, o co chodzi z ty
	mi kucykami\, czemu jest na to taki szał i skąd to się wzięło? A moż
	e jednak wiesz już wszystko i chcesz poznać cudzy punkt widzenia? Lub ch
	cesz poznać nowych Bronies/Pegasis w tym fandomie? Jeśli tak to serdeczn
	ie zapraszam!\n\n	14.00 Cydr od kuchni czyli z czym to się je. (Ratchet)\
	n\n	Opis: Podstawowa wiedza o cydrze\, jego historia oraz to jak powstaje.
	\n\n	15.30 Prelekcja kolejowa (Ensifer)\n\n	Opis: Sterowanie ruchem kolejo
	wym na przykładzie symulatora.\n\n	18.00 Spotkanie Informacyjne SWB\n\n	O
	pis: Podczas spotkania informacyjnego Stowarzyszenia Warszawa Bronies moż
	na dowiedzieć się o działalności Stowarzyszenia oraz jego rozwoju. Mil
	e widziane pytania. \n\n	19.30 Prelekcja Pancerna (Ensifer)\n\n	Opis: Radz
	ieckie czołgi ciężkie na przykładzie rodziny czołgów KW.\n\n\n\n	 \
	n\n\n\n	2. Sala Sawy (Karaoke)\n\n	Karaoke 12.30-17.00 oraz 18.00-10.30\n\
	n\n\n	 \n\n\n\n	3. Sala Posejdona (Turniejowa)\n\n	12.30-16.30 Turniej CC
	G (Prowadzacy Kosa)\n\n	18.00-22.00 Turniej CCG (Prowadzacy Kosa)\n\n	NOCL
	EG od 22.00 do 9.00 (do 9.30 zabranie rzeczy)\n\n	11.30-12.00 Ceremonia za
	kończenia i wspólne zdjęcie\n\n\n\n	 \n\n\n\n	4. Korytarz\n\n	Sklepiki
	 oferują gadżety jak: przypinki\, figurki\, plakaty oraz gastronomię ja
	k: tosty czy kawę. Działają od 12.00 do 20.00 w sobotę oraz od 9.00 do
	 11.00 w niedzielę.\n\n\n\n	 \n\n\n\n	Koszt biletu: 10 PLN\n\n	Przypomin
	amy również o formularzu rejestracyjnym.\n\n	Wszyscy którzy wypełnią 
	go dostaną ID ze swoim własnym OC.\n\n	OC prosimy wysyłać na mail domw
	25@wp.pl z dopiskiem III Świąteczny Ponymeet lub wysyłać nam przez fan
	page facebookowy Stowarzyszenie Warszawa Bronies.\n\n	Formularz i przyjmow
	anie OC zostaną zamknięte o 18.00 w poniedziałek 5 grudnia.\n\n\n\n	*Pl
	an może ulec zmianie.\n
DTSTART:20161210T110000Z
DTEND:20161211T110000Z
ATTENDEE;CN="Wlocz";CUTYPE=INDIVIDUAL;PARTSTAT=ACCEPTED:admi
	nistracja@mlppolska.pl
ATTENDEE;CN="Accurate Accu Memory";CUTYPE=INDIVIDUAL;PARTSTA
	T=ACCEPTED:administracja@mlppolska.pl
END:VEVENT
END:VCALENDAR
