BEGIN:VCALENDAR
VERSION:2.0
PRODID:-//IP.Board Calendar 4.7.1//EN
METHOD:PUBLISH
CALSCALE:GREGORIAN
X-WR-CALNAME:Małopolskie
BEGIN:VTIMEZONE
TZID:Europe/London
TZURL:http://tzurl.org/zoneinfo/Europe/London
X-LIC-LOCATION:Europe/London
BEGIN:DAYLIGHT
TZOFFSETFROM:+0000
TZOFFSETTO:+0100
TZNAME:BST
DTSTART:20170326T020000Z
RRULE:FREQ=YEARLY;BYMONTH=3;BYDAY=-1SU
END:DAYLIGHT
BEGIN:STANDARD
TZOFFSETFROM:+0100
TZOFFSETTO:+0000
TZNAME:GMT
DTSTART:20171029T020000Z
RRULE:FREQ=YEARLY;BYMONTH=10;BYDAY=-1SU
END:STANDARD
END:VTIMEZONE
BEGIN:VEVENT
SUMMARY:VI Krakowski Meet Basenowy
DTSTAMP:20170627T195531Z
SEQUENCE:0
UID:88-8-06383f3d05cd38aec216ab67a22f00e2@mlppolska.pl
ORGANIZER;CN="sz6sty":administracja@mlppolska.pl
DESCRIPTION:\n\n	Słońce grzeje\, temperatura rośnie\, więc najwyższ
	a pora schłodzić swe kopyta na tradycyjnym wakacyjnym meet'cie basenowym
	.\nSpotykamy się o 11:00 na Placu Centralnym\, skąd uda się na pobliski
	 Basen Krakowianka.\n\n\n	Cennik biletów:\n\n	Normalny 17 zł\n\n	Ulgowy 
	12 zł\n\n\n	Po basenie możemy iść na karkówkę z grilla i oranżadę 
	przy Placu Centralnym albo z pełnoletnimi na przysłowiowe piwo.\n\n\n	Dl
	a tych co nie byli z nami na basenie\, jest tam część płytka ze zjeż
	dżalnią i grzybkami oraz część głęboka z trampolinami. Wokół spor
	o terenu zielonych oraz dwa boiska do siatkówki plażowej.\n\n\n\n	 \n\n
	\n\n	RZECZY OBOWIĄZKOWE\, które trzeba wziąć:\n\n	- Krem z filtrem\n\n
		- Ręcznik\n\n	- Kąpielówki / strój kąpielowy (panie niestety nie mo
	gą w wersji topless)\n\n	- Pieniądze na bilet wejściowy\n\n	- Legitymac
	ja szkolna / studencka jeśli posiadasz\n\n	- Butelka z napojem bezalkohol
	owym\n\n\n\n	Dobrze też ze sobą zabrać:\n\n	- Pieniądze na coś do jed
	zenia\n\n	- Piłkę siatkową / plażową\n\n	- Nakrycie głowy\n\n	- Klap
	ki\n\n\n\n	Jako rozrywka dodatkowa\, będę miał piłkę plażową i pi
	łkę do siatkówki\n\nWydarzenie na facebooku (widoczne tylko dla człon
	ków grupy Bronies Kraków)\n\n
DTSTART:20170709T090000Z
DTEND:20170709T200000Z
END:VEVENT
END:VCALENDAR
